BEGIN:VCALENDAR
VERSION:2.0
PRODID:-//Kundalini Yoga School - ECPv6.15.13.1//NONSGML v1.0//EN
CALSCALE:GREGORIAN
METHOD:PUBLISH
X-WR-CALNAME:Kundalini Yoga School
X-ORIGINAL-URL:https://kundaliniyogaschool.org
X-WR-CALDESC:Events for Kundalini Yoga School
REFRESH-INTERVAL;VALUE=DURATION:PT1H
X-Robots-Tag:noindex
X-PUBLISHED-TTL:PT1H
BEGIN:VTIMEZONE
TZID:Europe/Amsterdam
BEGIN:DAYLIGHT
TZOFFSETFROM:+0100
TZOFFSETTO:+0200
TZNAME:CEST
DTSTART:20250330T010000
END:DAYLIGHT
BEGIN:STANDARD
TZOFFSETFROM:+0200
TZOFFSETTO:+0100
TZNAME:CET
DTSTART:20251026T010000
END:STANDARD
BEGIN:DAYLIGHT
TZOFFSETFROM:+0100
TZOFFSETTO:+0200
TZNAME:CEST
DTSTART:20260329T010000
END:DAYLIGHT
BEGIN:STANDARD
TZOFFSETFROM:+0200
TZOFFSETTO:+0100
TZNAME:CET
DTSTART:20261025T010000
END:STANDARD
BEGIN:DAYLIGHT
TZOFFSETFROM:+0100
TZOFFSETTO:+0200
TZNAME:CEST
DTSTART:20270328T010000
END:DAYLIGHT
BEGIN:STANDARD
TZOFFSETFROM:+0200
TZOFFSETTO:+0100
TZNAME:CET
DTSTART:20271031T010000
END:STANDARD
END:VTIMEZONE
BEGIN:VEVENT
DTSTART;TZID=Europe/Amsterdam:20260417T070000
DTEND;TZID=Europe/Amsterdam:20260427T193000
DTSTAMP:20260421T213951
CREATED:20260330T163318Z
LAST-MODIFIED:20260330T163328Z
UID:79048-1776409200-1777318200@kundaliniyogaschool.org
SUMMARY:Green Detox Sadhana
DESCRIPTION:This Sadhana takes place in Spring\, the time of year when the body is ready to clear what has built up over the Winter period and restore the flow of energy. \nDuring these 11 days\, you are invited to work with a simple Green Detox\, preparing your meals with green ingredients only. This supports the body’s natural detoxification processes and reduces the load on the system\, allowing it to process and release what is no longer needed more efficiently. \nAs the system becomes lighter\, there is often a noticeable shift in how you feel\, with more clarity\, more energy\, and a greater sense of ease in the body. \nTo support this process\, we practice together each morning from 7:00 – 7:30 AM CEST. Starting Friday April 17th. Through Kundalini Yoga\, we work on the Liver and the circulation of energy\, helping the body to release buildup and restore flow on both a physical and mental level. \nYou can join the LIVE sessions via Zoom or practice with the recordings in your own time\, supported by an additional full Kundalini Yoga sequence designed specifically for the Liver. \nDuring these 11 days you receive: \n\nDaily LIVE Kundalini Yoga practice (30 minutes)\nAn additional pre-recorded full Kundalini Yoga set for the Liver\nRecipes\, shopping lists\, and preparation guidance\nDaily inspiration to support you throughout the process\nAccess to the community for shared experience and support\n\nFor eleven days we practice as a community with the theme Green Detox\, supporting clearing\, renewal\, and a system that feels more open and responsive. \nYou are warmly invited to join this Sadhana. If you cannot attend live\, registration includes on-demand access\, so you can practice in your own rhythm and time zone. \n			\n				Join Detox Sadhana
URL:https://kundaliniyogaschool.org/event/green-detox-sadhana/
LOCATION:Online Community
CATEGORIES:Sadhana
ATTACH;FMTTYPE=image/jpeg:https://kundaliniyogaschool.org/wp-content/uploads/2026/03/Green-Detox-Sadhana-2026.jpeg
END:VEVENT
BEGIN:VEVENT
DTSTART;VALUE=DATE:20260612
DTEND;VALUE=DATE:20260620
DTSTAMP:20260421T213951
CREATED:20250929T083414Z
LAST-MODIFIED:20260113T110518Z
UID:77015-1781222400-1781913599@kundaliniyogaschool.org
SUMMARY:Teachers Intensive Italy
DESCRIPTION:Details\nDate: June 12th - 19th 2026 (7 days / 6 nights)Location: Ventimiglia\, ItalyTeachers: Marieke de Lange & Tim SchipperPrice: € 725 \nThe price includes all meals and drinks\, daily Kundalini Yoga sessions\, and camping with your own tent. Accommodation and transportation to and from the retreat are excluded.  \n  \n			\n				Register for Teacher's Retreat\n			\n				\n				\n				\n				\n				  \nFrom June 12–19\, 2026\, we gather in the gorgeous foothills of the Ligurian Alps\, close to the Mediterranean Sea\, for a special retreat: the Teachers Intensive.  \nThis week is exclusively for teachers who have followed our Kundalini Yoga Teacher Training in recent years. It is an invitation to return\, reconnect\, and deepen together with your peers. \nWe will explore sharing Kundalini Yoga authentically\, while honoring the ancient wisdom that holds us. Each day we will practice together\, experience one another’s Kundalini Yoga sets\, and hold space for ceremony\, reflection\, and celebration. \nOver the years\, many souls have shared deep transformational weeks with us here\, weaving strong bonds with each other and with the land itself. This place continues to hold us as a loving container\, where we can dive deep within\, honor our calling as teachers\, and root more fully into the sacredness of life. \nTogether\, we celebrate life with daily sunrise Sadhanas\, deep-dive practices\, vegan food\, laughter\, meaningful conversations\, refreshing swims\, mantras\, and ceremony. \n \nLocation\nThe retreat is given in the beautiful hills surrounding Ventimiglia in the Northern part of Italy. There are several (basic) lodging possibilities you can also camp between the olive trees in your own tent\, camper\, or a rented tent. \n \nA sensitive and contained space\nThis Teachers retreat is designed for full immersion\, inviting you to embrace the experience with dedication. Feeling a motivation to follow the daily schedule is key\, as this shared structure supports our journey together. To maintain a sensitive and contained space\, you are strongly encouraged to stay at the retreat location for the full 7 days\, except when the program includes group outings. This deepens our Soul connections\, the heart of our week together. \n \nAccommodation\nOur retreat takes place in a stunning natural setting atop a mountain near Ventimiglia\, Italy. Enjoy breathtaking views of the Mediterranean Sea and surrounding mountain valleys. Accommodation options are available for an additional fee\, or you’re welcome to bring your own tent at no cost. \nExplore the options for accommodation here \n \nArrival/ departure time\nWe warmly welcome you from 16:00 on Friday\, June 12th. The retreat begins in the late afternoon at 18:00 with a light dinner. Our journey together concludes the following Friday\, June 19th\, after breakfast. \n \nTransportation\nReach the retreat in the following way: Fly to Nice Airport (France) and from there you take a short bus ride to the train station in Nice. From there you start the beautiful train ride (50 min) along the coastline of the côte d’azur to Ventimiglia (Italia); from Ventimiglia you take a short (15 min) taxi ride up the mountain to our retreat place. We’ll also share the participant list\, so you can travel together and/ or share the taxi from Ventimiglia. The other option is to rent a car from Nice airport or travel with your own car. \n			\n				\n				\n				\n				\n				Gallery 
URL:https://kundaliniyogaschool.org/event/kundalini-yoga-teachers-intensive-italy/
LOCATION:Ventimiglia\, Italy
CATEGORIES:Retreats & Journeys
ATTACH;FMTTYPE=image/jpeg:https://kundaliniyogaschool.org/wp-content/uploads/2025/09/Italy-Kundalini-Yoga-Retreat-.jpg
END:VEVENT
BEGIN:VEVENT
DTSTART;TZID=Europe/Amsterdam:20260626T160000
DTEND;TZID=Europe/Amsterdam:20260703T120000
DTSTAMP:20260421T213951
CREATED:20251216T201130Z
LAST-MODIFIED:20260208T073114Z
UID:77598-1782489600-1783080000@kundaliniyogaschool.org
SUMMARY:Kundalini Yoga Retreat Italy
DESCRIPTION:Details\nDate: June 26th - July 3rd 2026 (8 days / 7 nights)Location: Ventimiglia\, ItalyTeachers: Marieke de Lange & Tim SchipperPrice: € 725 \nThe price includes all meals and drinks\, daily Kundalini Yoga sessions\, and camping with your own tent. Accommodation and transportation to and from the retreat are excluded. \n  \n			\n				Register for Italy Retreat\n			\n				\n				\n				\n				\n				 \nKundalini Yoga Deep-Practice Retreat\nFrom June 26th till July 3rd 2026 we once again return to the gorgeous foothills of the Ligurian Alps\, close to the Mediterranean Sea\, for our annual Kundalini Yoga retreat. Over the years\, many souls have shared these deep transformational weeks with us\, weaving strong soul connections; not only from human to human\, but also with the land itself. This sacred place continues to hold us as a loving container to come together\, dive deep within\, and feel our belonging with nature. \nDuring this week we live with the land\, experiencing how everything is interconnected\, and how Spirit animates all of life. This way of living awakens wonder\, opens our hearts to the sacredness of life\, and our eyes to the beauty and miracles all around us. It’s a celebration of presence\, of being here and now. \nWe warmly invite you to join us for this gathering: celebrating life with daily sunrise Sadhanas\, deep-dive Kundalini Yoga sessions\, relaxing afternoon practices\, delicious vegan food\, laughter and joy\, meaningful conversations\, refreshing swims in the natural pool\, new friendships\, mantras\, and ceremony.  \n			\n				\n				\n				\n				\n				 \nLocation\nThe retreat is given in the beautiful hills surrounding Ventimiglia in the Northern part of Italy. There are servela (basic) lodging possibilities you can also camp between the olive trees in your own tent\, camper\, or a rented tent. \n \nDaily schedule\n05:30 – 07:45 | Kundalini Yoga08:00 – 09:00 | Seva09:00 – 09:30 | Breakfast10:30 – 13:00 | Kundalini Yoga13:00 – 14:00 | Lunch16:30 – 18:00 | Kundalini Yoga18:30 – 19:30 | Dinner20:15 – 20:30 | Meditation \n \nKundalini Yoga full immersion\nThis is a deep-practice retreat designed for full immersion\, inviting you to embrace the experience with dedication. Feeling a motivation to follow the daily schedule is key\, as this shared structure supports our journey together. \nExperience with Kundalini Yoga is recommended\, and we encourage you to join online classes with Tim & Marieke beforehand. Their teaching style may differ from what you're used to\, so this will help you familiarize yourself and ease into the retreat experience. \nTo maintain a sensitive and contained space\, you are strongly encouraged to stay at the retreat location for the full 7 days\, except when the program includes group outings. This deepens our Soul connections\, the heart of our week together. \n \nAccommodation\nOur retreat takes place in a stunning natural setting atop a mountain near Ventimiglia\, Italy. Enjoy breathtaking views of the Mediterranean Sea and surrounding mountain valleys. Accommodation options are available for an additional fee\, or you’re welcome to bring your own tent at no cost. \nExplore the options for accommodation here \n \nArrival/ departure time\nWe warmly welcome you from 16:00 on Friday\, June 26th. The retreat begins in the late afternoon at 18:00 with a light dinner. Our journey together concludes the following Friday\, July 3rd\, after breakfast. \n \nTransportation\nReach the retreat in the following way: Fly to Nice Airport (France) and from there you take a short bus ride to the train station in Nice. From there you start the beautiful train ride (50 min) along the coastline of the côte d’azur to Ventimiglia (Italia); from Ventimiglia you take a short (15 min) taxi ride up the mountain to our retreat place. We’ll also share the participant list\, so you can travel together and/ or share the taxi from Ventimiglia. The other option is to rent a car from Nice airport or travel with your own car. \n  \nGallery\n			\n				\n					\n					\n					\n				\n				\n					\n					\n					\n				\n				\n					\n					\n					\n				\n				\n					\n					\n					\n				\n				\n					\n					\n					\n				\n				\n					\n					\n					\n				\n				\n					\n					\n					\n				\n				\n					\n					\n					\n				\n				\n					\n					\n					\n				\n				\n					\n					\n					\n				\n				\n					\n					\n					\n				\n				\n				Register for Italy Retreat\n			\n			\n				\n				\n				\n				\n			\n				\n				\n				\n				\n				\n				\n				\n				\n				\n				\n				Testimonials\n			\n				\n					\n				\n				\n				\n					\n						\n						\n							"The retreat on top of the hill in Italy has been a very special week. Great to be diving into Kundalini yoga practice\, seeing beautiful sunrises at Sadhana (gave me goosebumps every day!)\, beautiful people to share this week with\, doing seva and a fantastic vision quest which gave me some good insights. It has been a wonderful journey and I would love to come again next year." \nIngrid \n							\n						\n					\n				\n				\n				\n				\n			\n			\n				\n				\n				\n					\n						\n						\n							"I so far had the opportunity to experience the Kundalini Yoga retreats in Italy twice. I had done some yoga before\, even some Kundalini Yoga\, but to be honest\, I had no idea what to expect that first time I joined. Spending a whole week\, at an indescribable beautiful location\, with lovely weather and 25 amazing people\, has really touched me. I really got a chance to go ‘inward’\, to come home to myself\, something I had never experienced before. Very special!" \nPeter \n							\n						\n					\n				\n				\n				\n				\n			\n			\n				\n				\n				\n					\n						\n						\n							"It was a very special yoga retreat and the classes are fantastic! I’m grateful for you and what the retreat has given me. Happy to come again on the next retreat on the hill in Italy and enjoy the magical sunrises during Sadhana." \nRoslyn \n							\n						\n					\n				\n				\n				\n				\n			\n			\n				\n				\n				\n					\n						\n						\n							"This retreat has given me so much. In the week after it I noticed I was much more able to concentrate myself and my memory improved! Since then I am doing a meditation every day and that feels great. I’m so happy about this. I can truly recommend this retreat experience to everyone." \nMaaike \n							\n						\n					\n				\n				\n				\n				\n			\n			\n				\n				\n				\n					\n						\n						\n							"This retreat has given me so much. In the week after it I noticed I was much more able to concentrate myself and my memory improved! Since then I am doing a meditation every day and that feels great. I’m so happy about this. I can truly recommend this retreat experience to everyone." \nMaaike \n							\n						\n					\n				\n				\n				\n				\n			\n			\n				\n				\n				\n					\n						\n						\n							"The atmosphere and safety you guys create during this retreat is thus that I can totally surrender to everything. And the way you explain things is a true enrichment of the process." \nEls \n							\n						\n					\n				\n				\n				\n				\n			\n			\n				\n				\n				\n					\n						\n						\n							"The atmosphere and safety you guys create during this retreat is thus that I can totally surrender to everything. And the way you explain things is a true enrichment of the process." \nEls \n							\n						\n					\n				\n				\n				\n				\n			\n			\n				\n				\n				\n					\n						\n						\n							"A week full of self-love and making new friends. Everything is taken care of: healthy food made by superb chefs\, a fixed schedule\, the sun\, nature\, clean accommodation and an open air shower to enjoy the mountain view. Only thing you have to do is opening up yourself to let the Kundalini flow\, to work on yourself\, supported by the energy\, the love and the kindness of the group." \nMicaela \n							\n						\n					\n				\n				\n				\n				\n			\n			\n				\n				\n				\n					\n						\n						\n							"Everything was organised to perfection! You seemed to enjoy giving this retreat just as much as the participants enjoyed being there and that made it a very special and fun experience." \nEllis \n							\n						\n					\n				\n				\n				\n				\n			\n			\n				\n				\n				\n					\n						\n						\n							"This retreat has been very special\, I experienced many beautiful things and I have met very nice people. Never guessed a group process could be so good (I’m not really a ‘group person’) and to see the goodness in everybody." \nCorinne \n							\n						\n					\n				\n				\n				\n				\n			\n			\n				\n				\n				\n					\n						\n						\n							"For me the week is all about self development. Also there was enough time to relax in between the sessions so it felt like a holiday as well. I love the accommodation and teachers; the surrounding is beautiful and peaceful\, the accommodations are pretty basic which matches the yoga well\, and Tim and Marieke are incredibly skilled in leading such a week. I really recommend joining this retreat." \nAnna \n							\n						\n					\n				\n				\n				\n				\n			\n			\n				\n				\n			\n			\n				\n				\n				\n				\n				  Dit bericht op Instagram bekijkenEen bericht gedeeld door Kundalini Yoga School (@kundaliniyogaschool)
URL:https://kundaliniyogaschool.org/event/kundalini-yoga-retreat-italy-2026/
LOCATION:Ventimiglia\, Italy
CATEGORIES:Retreats & Journeys
ATTACH;FMTTYPE=image/jpeg:https://kundaliniyogaschool.org/wp-content/uploads/2025/09/Kundalini-Yoga-Retreat-Italy-Morning-Sadhana-.jpeg
END:VEVENT
BEGIN:VEVENT
DTSTART;VALUE=DATE:20260925
DTEND;VALUE=DATE:20261005
DTSTAMP:20260421T213951
CREATED:20251217T113515Z
LAST-MODIFIED:20260421T165133Z
UID:77550-1790294400-1791158399@kundaliniyogaschool.org
SUMMARY:Mystical Morocco Journey
DESCRIPTION:Details\nDate: 25 September – 4 October 2026 (10 days / 9 nights)Location: Marrakech & South MoroccoTeachers: Marieke de Lange & Tim SchipperIn collaboration with: Maroc Travel Agency \n\n\nShared room: €1499 \n\n\nMaximum group-size: 15 \nIncludedAll accommodations\, meals and drinks in the mountains\, daily Kundalini Yoga classes\, and personal guidance. \nNot includedFlights\, meals and drinks in Marrakech\, and tips for guides. \n  \n			\n				Click here to register\n			\n				\n					\n					\n					\n				\n				\n					\n					\n					\n				\n				\n					\n					\n					\n				\n				\n					\n					\n					\n				\n				\n					\n					\n					\n				\n				\n					\n					\n					\n				\n				\n					\n					\n					\n				\n				\n					\n					\n					\n				\n				\n					\n					\n					\n				\n				\n					\n					\n					\n				\n				\n					\n					\n					\n				\n				\n					\n					\n					\n				\n				\n					\n					\n					\n				\n				\n					\n					\n					\n				\n				\n					\n					\n					\n				\n				\n					\n					\n					\n				\n				\n					\n					\n					\n				\n				\n					\n					\n					\n				\n				\n					\n					\n					\n				\n				\n				\n				\n				\n				\n				  \nA Yoga Journey into the Heart of Morocco\nStep into the vibrant rhythm of Marrakech and the serene stillness of South Morocco. We begin in a beautiful Riad within the maze-like medina\, where colourful souks\, ancient traditions\, and mystical corners shape the atmosphere. Each day offers Kundalini Yoga sessions\, moments of inner reflection\, and time to unwind in traditional hammams. \nAfter three days\, our path leads us through the breathtaking Atlas Mountains. Here we spend the night\, take a stunning mountain hike\, and experience Berber culture in the hometown of our guides. \nFrom there\, we continue toward the Ameln Valley\, nestled against the cliffs of Jebel Lkest near the warm village of Tafraoute. This marks another part of the journey: days filled with silence\, nature walks\, deep Kundalini Yoga practice\, and the authentic Moroccan hospitality that touches the heart. \nWe close our journey in a peaceful beach village\, enjoying time together and discovering yet another facet of Morocco. From here\, you’ll travel to Agadir to fly home\, or you may return to Marrakech with our busdriver and extend your stay to explore more of this mystical land. \n  \nHighlights\n\nA journey of inner and outer exploration with a mystical touch.\nDaily Kundalini Yoga with personal guidance from Marieke & Tim\, two experienced Kundalini Yoga teachers. \nSuitable for all levels: from beginners to advanced practitioners.\nA balanced program of city life\, culture\, nature\, silence\, and spiritual practice.\nFrom experience\, we know that spending 10 days together creates the perfect rhythm: enough time to arrive\, unwind\, enjoy\, and gently integrate all practices and experiences. \n\n  \nGood to Know\n\n3 nights in Marrakech\n6 nights immersed in nature\nA private cook travels with us\, preparing simple and healthy vegetarian meals. \nWe’ve chosen authentic locations to offer a true Moroccan experience (we don't stay in luxury wellness resorts).\nThe Journey starts in Marrakech and ends in Agadir. \nWe offer 5 single-room options\, available for 6 nights\, with a private room and shared bathroom for the remaining 3 nights.\nIf you’d like to book extra nights in Marrakech or need a taxi to the airport on a different day than the group arrival\, we’re happy to arrange that for you.\n\n \n \n			\n				\n				\n				\n				\n				\n			\n				Click here to register\n			\n				\n				\n				\n				\n				  Dit bericht op Instagram bekijkenEen bericht gedeeld door Kundalini Yoga School (@kundaliniyogaschool)
URL:https://kundaliniyogaschool.org/event/mystical-morocco-journey-2026/
LOCATION:Morocco
CATEGORIES:Retreats & Journeys
ATTACH;FMTTYPE=image/jpeg:https://kundaliniyogaschool.org/wp-content/uploads/2025/12/Mystical-Morocco-Journey-2026-kundaliniyogaschool.org_.jpeg
END:VEVENT
END:VCALENDAR